BEGIN:VCALENDAR
VERSION:2.0
PRODID:-//L&#039;Accordeur - Concerts - Salle de spectacle Bordeaux Gironde - ECPv4.6.23//NONSGML v1.0//EN
CALSCALE:GREGORIAN
METHOD:PUBLISH
X-WR-CALNAME:L&#039;Accordeur - Concerts - Salle de spectacle Bordeaux Gironde
X-ORIGINAL-URL:https://www.laccordeurlasalle.com
X-WR-CALDESC:Évènements pour L&#039;Accordeur - Concerts - Salle de spectacle Bordeaux Gironde
BEGIN:VEVENT
DTSTART;TZID=UTC+0:20240504T133000
DTEND;TZID=UTC+0:20240504T170000
DTSTAMP:20260419T154133
CREATED:20240417T085130Z
LAST-MODIFIED:20240417T085456Z
UID:7342-1714829400-1714842000@www.laccordeurlasalle.com
SUMMARY:Brocante Musicale + Romano Dandies
DESCRIPTION:\n			\n			\n				\n				\n				\n				\n					\n				\n				\n				\n				\n				\n				\n				\n					Première édition pour cette brocante musicale !  \nAu programme\, matos hifi et instruments divers et variés\, affiches collectors ainsi qu’une sélection de vinyles pour amateur·rice en tout genres le tout à des prix abordables pour se (re)lancer dans vos différents projets musicaux ! \nNotre Coach Vanessa proposera des sessions de Yoga Musical (Hatha)\, ouvert aux débutant.es.\n2 créneaux à 14h30 & 15h30 (participation libre). \nROMANO DANDIES /// musiques tsiganes  \nLes Romano Dandies viendront clôturer cette journée musicale Groupe de musique tsigane\, les Romano Dandies\, c’est avant tout l’incitation au voyage vers les contrées de l’Europe de l’Est ; musiques\, chansons glanées à droite à gauche au fil des pérégrinations à travers différentes langues de l’Europe de l’Est comme le Russe\, le Serbe\, le Romani\, le Bulgare et le Roumain. \nLes recettes de la journée serviront à financer le voyage à Paris que nous organisons dans le cadre du projet “Invitations”. (plus d’infos en cliquant sur le lien) \nBuvette et petite restauration prévues sur place ! \nMusicien.nes\, disquaires et autres collectionneur.ses\, vous êtes intéressé.es pour être exposant.es sur notre brocante ? Contactez nous par mail ci-dessous ou au 05 24 08 43 45 (2.5€ le mètre linéaire) \n				\n			 \n				\n				\n				\n					\n				\n				\n			\n				\n				\n				\n					ROMANO DANDIES / FARA SA SE SUPERE\n				\n			 \n			 \n				\n				\n			 \n				\n				\n			 			\n			\n		
URL:https://www.laccordeurlasalle.com/evenement/brocante-musicale-romano-dandies/
LOCATION:L’Accordeur\, Route de Paris\, Saint-Denis-de-Pile\, France
GEO:44.9773435;-0.2120449
X-APPLE-STRUCTURED-LOCATION;VALUE=URI;X-ADDRESS=L’Accordeur Route de Paris Saint-Denis-de-Pile France;X-APPLE-RADIUS=500;X-TITLE=Route de Paris:geo:-0.2120449,44.9773435
CATEGORIES:Concerts
ATTACH;FMTTYPE=image/jpeg:https://www.laccordeurlasalle.com/wp-content/uploads/2024/04/couv-event-fb-brocante.jpg
END:VEVENT
END:VCALENDAR