BEGIN:VCALENDAR
VERSION:2.0
PRODID:-//L&#039;Accordeur - Concerts - Salle de spectacle Bordeaux Gironde - ECPv4.6.23//NONSGML v1.0//EN
CALSCALE:GREGORIAN
METHOD:PUBLISH
X-WR-CALNAME:L&#039;Accordeur - Concerts - Salle de spectacle Bordeaux Gironde
X-ORIGINAL-URL:https://www.laccordeurlasalle.com
X-WR-CALDESC:Évènements pour L&#039;Accordeur - Concerts - Salle de spectacle Bordeaux Gironde
BEGIN:VEVENT
DTSTART;TZID=UTC+0:20240503T200000
DTEND;TZID=UTC+0:20240504T010000
DTSTAMP:20260419T140050
CREATED:20240320T154108Z
LAST-MODIFIED:20240320T154444Z
UID:7309-1714766400-1714784400@www.laccordeurlasalle.com
SUMMARY:Urban Music Workshop Crew
DESCRIPTION:\n			\n			\n				\n				\n				\n				\n					\n				\n				\n				\n				\n				\n				\n				\n					URBAN MUSIC WORKSHOP CREW \n  \nUrban Music Workshop  \nL’Urban Music Workshop\, créé par notre programmateur et directeur Fred il y a maintenant 2 ans et organisé à raison d’un atelier par mois\, réuni des jeunes du Libournais intéressés par le Hip-Hop.\nCe projet leur permet de développer leur écriture\, s’initier au beatmaking et de finaliser leurs premiers morceaux avec la possibilité de les enregistrer en studio et de les jouer en live comme ce soir. \nVenez découvrir nos jeunes talents de l’Urban Music Workshop Crew ! \n  \nRestitution Collège des Dagueys \nRestitution du travail d’écriture rap réalisé par une classe de 4e du collège des Dagueys de Libourne avec Keurspi dans le cadre du parcours “ “Des mots et des rythmes”*. \n*programme académique proposé et soutenu par l’Education nationale\, la Direction Régionale des Affaires Culturelles\, le conseil départemental\, les établissements scolaires et culturels.  \n  \nTarif : 6€ \n  \n  \n  \n				\n			 \n				Billetterie en ligne Billetweb\n			\n			 \n				\n				\n			 \n				\n				\n			 			\n			\n		
URL:https://www.laccordeurlasalle.com/evenement/urban-music-workshop-crew/
LOCATION:L’Accordeur\, Route de Paris\, Saint-Denis-de-Pile\, France
GEO:44.9773435;-0.2120449
X-APPLE-STRUCTURED-LOCATION;VALUE=URI;X-ADDRESS=L’Accordeur Route de Paris Saint-Denis-de-Pile France;X-APPLE-RADIUS=500;X-TITLE=Route de Paris:geo:-0.2120449,44.9773435
CATEGORIES:Concerts
ATTACH;FMTTYPE=image/jpeg:https://www.laccordeurlasalle.com/wp-content/uploads/2024/03/Plan-de-travail-1.jpg
END:VEVENT
END:VCALENDAR